BEGIN:VCALENDAR
VERSION:2.0
PRODID:-//Gamble Garden - ECPv6.15.17.1//NONSGML v1.0//EN
CALSCALE:GREGORIAN
METHOD:PUBLISH
X-WR-CALNAME:Gamble Garden
X-ORIGINAL-URL:https://www.gamblegarden.org
X-WR-CALDESC:Events for Gamble Garden
REFRESH-INTERVAL;VALUE=DURATION:PT1H
X-Robots-Tag:noindex
X-PUBLISHED-TTL:PT1H
BEGIN:VTIMEZONE
TZID:America/Los_Angeles
BEGIN:DAYLIGHT
TZOFFSETFROM:-0800
TZOFFSETTO:-0700
TZNAME:PDT
DTSTART:20220313T100000
END:DAYLIGHT
BEGIN:STANDARD
TZOFFSETFROM:-0700
TZOFFSETTO:-0800
TZNAME:PST
DTSTART:20221106T090000
END:STANDARD
BEGIN:DAYLIGHT
TZOFFSETFROM:-0800
TZOFFSETTO:-0700
TZNAME:PDT
DTSTART:20230312T100000
END:DAYLIGHT
BEGIN:STANDARD
TZOFFSETFROM:-0700
TZOFFSETTO:-0800
TZNAME:PST
DTSTART:20231105T090000
END:STANDARD
BEGIN:DAYLIGHT
TZOFFSETFROM:-0800
TZOFFSETTO:-0700
TZNAME:PDT
DTSTART:20240310T100000
END:DAYLIGHT
BEGIN:STANDARD
TZOFFSETFROM:-0700
TZOFFSETTO:-0800
TZNAME:PST
DTSTART:20241103T090000
END:STANDARD
BEGIN:DAYLIGHT
TZOFFSETFROM:-0800
TZOFFSETTO:-0700
TZNAME:PDT
DTSTART:20250309T100000
END:DAYLIGHT
BEGIN:STANDARD
TZOFFSETFROM:-0700
TZOFFSETTO:-0800
TZNAME:PST
DTSTART:20251102T090000
END:STANDARD
BEGIN:DAYLIGHT
TZOFFSETFROM:-0800
TZOFFSETTO:-0700
TZNAME:PDT
DTSTART:20260308T100000
END:DAYLIGHT
BEGIN:STANDARD
TZOFFSETFROM:-0700
TZOFFSETTO:-0800
TZNAME:PST
DTSTART:20261101T090000
END:STANDARD
END:VTIMEZONE
BEGIN:VEVENT
DTSTART;TZID=America/Los_Angeles:20250816T090000
DTEND;TZID=America/Los_Angeles:20250816T100000
DTSTAMP:20260421T050126
CREATED:20230417T212609Z
LAST-MODIFIED:20250731T205145Z
UID:22955-1755334800-1755338400@www.gamblegarden.org
SUMMARY:Yoga In The Garden - August
DESCRIPTION:
URL:https://www.gamblegarden.org/event/yoga-aug-2025/
LOCATION:Gamble Garden\, 1431 Waverley Street\, Palo Alto\, CA\, 94301\, United States
CATEGORIES:All Classes & Events,Classes for Adults,Fitness,Yoga
ORGANIZER;CN="Gamble Garden":MAILTO:admin@gamblegarden.org
END:VEVENT
BEGIN:VEVENT
DTSTART;TZID=America/Los_Angeles:20250719T090000
DTEND;TZID=America/Los_Angeles:20250719T100000
DTSTAMP:20260421T050126
CREATED:20230417T212558Z
LAST-MODIFIED:20250410T205544Z
UID:22954-1752915600-1752919200@www.gamblegarden.org
SUMMARY:Yoga In The Garden - July
DESCRIPTION:
URL:https://www.gamblegarden.org/event/yoga-july-2025/
LOCATION:Gamble Garden\, 1431 Waverley Street\, Palo Alto\, CA\, 94301\, United States
CATEGORIES:All Classes & Events,Classes for Adults,Fitness,Yoga
ORGANIZER;CN="Gamble Garden":MAILTO:admin@gamblegarden.org
END:VEVENT
BEGIN:VEVENT
DTSTART;TZID=America/Los_Angeles:20250621T090000
DTEND;TZID=America/Los_Angeles:20250621T100000
DTSTAMP:20260421T050126
CREATED:20230417T212548Z
LAST-MODIFIED:20250410T205138Z
UID:22953-1750496400-1750500000@www.gamblegarden.org
SUMMARY:Yoga In The Garden - June
DESCRIPTION:
URL:https://www.gamblegarden.org/event/yoga-june-2025/
LOCATION:Gamble Garden\, 1431 Waverley Street\, Palo Alto\, CA\, 94301\, United States
CATEGORIES:All Classes & Events,Classes for Adults,Fitness,Yoga
ORGANIZER;CN="Gamble Garden":MAILTO:admin@gamblegarden.org
END:VEVENT
BEGIN:VEVENT
DTSTART;TZID=America/Los_Angeles:20250517T090000
DTEND;TZID=America/Los_Angeles:20250517T100000
DTSTAMP:20260421T050126
CREATED:20230417T212540Z
LAST-MODIFIED:20250506T234739Z
UID:22952-1747472400-1747476000@www.gamblegarden.org
SUMMARY:Yoga In The Garden - May
DESCRIPTION:
URL:https://www.gamblegarden.org/event/yoga-may-2025/
LOCATION:Gamble Garden\, 1431 Waverley Street\, Palo Alto\, CA\, 94301\, United States
CATEGORIES:All Classes & Events,Classes for Adults,Fitness,Yoga
ORGANIZER;CN="Gamble Garden":MAILTO:admin@gamblegarden.org
END:VEVENT
BEGIN:VEVENT
DTSTART;TZID=America/Los_Angeles:20250419T090000
DTEND;TZID=America/Los_Angeles:20250419T100000
DTSTAMP:20260421T050126
CREATED:20230417T212625Z
LAST-MODIFIED:20250418T172347Z
UID:22957-1745053200-1745056800@www.gamblegarden.org
SUMMARY:Yoga In The Garden - April
DESCRIPTION:
URL:https://www.gamblegarden.org/event/yoga-april-2025/
LOCATION:Gamble Garden\, 1431 Waverley Street\, Palo Alto\, CA\, 94301\, United States
CATEGORIES:All Classes & Events,Classes for Adults,Fitness,Yoga
ORGANIZER;CN="Gamble Garden":MAILTO:admin@gamblegarden.org
END:VEVENT
BEGIN:VEVENT
DTSTART;TZID=America/Los_Angeles:20240607T100000
DTEND;TZID=America/Los_Angeles:20240607T111500
DTSTAMP:20260421T050126
CREATED:20240326T234629Z
LAST-MODIFIED:20240522T011402Z
UID:23513-1717754400-1717758900@www.gamblegarden.org
SUMMARY:Move Like You Are Meant To: A Guide to Safe Gardening
DESCRIPTION:
URL:https://www.gamblegarden.org/event/safe-gardening/
LOCATION:Gamble Garden\, 1431 Waverley Street\, Palo Alto\, CA\, 94301\, United States
CATEGORIES:All Classes & Events,Fitness
ORGANIZER;CN="Gamble Garden":MAILTO:admin@gamblegarden.org
END:VEVENT
BEGIN:VEVENT
DTSTART;TZID=America/Los_Angeles:20231027T093000
DTEND;TZID=America/Los_Angeles:20231027T103000
DTSTAMP:20260421T050126
CREATED:20230707T201919Z
LAST-MODIFIED:20230707T202427Z
UID:23091-1698399000-1698402600@www.gamblegarden.org
SUMMARY:Tai Chi In The Garden
DESCRIPTION:
URL:https://www.gamblegarden.org/event/tai-chi-oct-27-2023/
LOCATION:Gamble Garden\, 1431 Waverley Street\, Palo Alto\, CA\, 94301\, United States
CATEGORIES:All Classes & Events,Classes for Adults,Fitness,Tai Chi
ORGANIZER;CN="Gamble Garden":MAILTO:admin@gamblegarden.org
END:VEVENT
BEGIN:VEVENT
DTSTART;TZID=America/Los_Angeles:20231013T093000
DTEND;TZID=America/Los_Angeles:20231013T103000
DTSTAMP:20260421T050126
CREATED:20230707T201646Z
LAST-MODIFIED:20230707T202402Z
UID:23090-1697189400-1697193000@www.gamblegarden.org
SUMMARY:Tai Chi In The Garden
DESCRIPTION:
URL:https://www.gamblegarden.org/event/tai-chi-oct-13-2023/
LOCATION:Gamble Garden\, 1431 Waverley Street\, Palo Alto\, CA\, 94301\, United States
CATEGORIES:All Classes & Events,Classes for Adults,Fitness,Tai Chi
ORGANIZER;CN="Gamble Garden":MAILTO:admin@gamblegarden.org
END:VEVENT
BEGIN:VEVENT
DTSTART;TZID=America/Los_Angeles:20230922T093000
DTEND;TZID=America/Los_Angeles:20230922T103000
DTSTAMP:20260421T050126
CREATED:20230707T201416Z
LAST-MODIFIED:20230707T202145Z
UID:23089-1695375000-1695378600@www.gamblegarden.org
SUMMARY:Tai Chi In The Garden
DESCRIPTION:
URL:https://www.gamblegarden.org/event/tai-chi-sep-22-2023/
LOCATION:Gamble Garden\, 1431 Waverley Street\, Palo Alto\, CA\, 94301\, United States
CATEGORIES:All Classes & Events,Classes for Adults,Fitness,Tai Chi
ORGANIZER;CN="Gamble Garden":MAILTO:admin@gamblegarden.org
END:VEVENT
BEGIN:VEVENT
DTSTART;TZID=America/Los_Angeles:20230908T093000
DTEND;TZID=America/Los_Angeles:20230908T103000
DTSTAMP:20260421T050126
CREATED:20230707T200953Z
LAST-MODIFIED:20230707T202316Z
UID:23088-1694165400-1694169000@www.gamblegarden.org
SUMMARY:Tai Chi In The Garden
DESCRIPTION:
URL:https://www.gamblegarden.org/event/tai-chi-sep-8-2023/
LOCATION:Gamble Garden\, 1431 Waverley Street\, Palo Alto\, CA\, 94301\, United States
CATEGORIES:All Classes & Events,Classes for Adults,Fitness,Tai Chi
ORGANIZER;CN="Gamble Garden":MAILTO:admin@gamblegarden.org
END:VEVENT
BEGIN:VEVENT
DTSTART;TZID=America/Los_Angeles:20230825T093000
DTEND;TZID=America/Los_Angeles:20230825T103000
DTSTAMP:20260421T050126
CREATED:20230707T200722Z
LAST-MODIFIED:20230707T202251Z
UID:23087-1692955800-1692959400@www.gamblegarden.org
SUMMARY:Tai Chi In The Garden
DESCRIPTION:
URL:https://www.gamblegarden.org/event/tai-chi-aug-25-2023/
LOCATION:Gamble Garden\, 1431 Waverley Street\, Palo Alto\, CA\, 94301\, United States
CATEGORIES:All Classes & Events,Classes for Adults,Fitness,Tai Chi
ORGANIZER;CN="Gamble Garden":MAILTO:admin@gamblegarden.org
END:VEVENT
BEGIN:VEVENT
DTSTART;TZID=America/Los_Angeles:20230811T093000
DTEND;TZID=America/Los_Angeles:20230811T103000
DTSTAMP:20260421T050126
CREATED:20230707T200017Z
LAST-MODIFIED:20230707T202215Z
UID:23086-1691746200-1691749800@www.gamblegarden.org
SUMMARY:Tai Chi In The Garden
DESCRIPTION:
URL:https://www.gamblegarden.org/event/tai-chi-aug-11-2023/
LOCATION:Gamble Garden\, 1431 Waverley Street\, Palo Alto\, CA\, 94301\, United States
CATEGORIES:All Classes & Events,Fitness,Tai Chi
ORGANIZER;CN="Gamble Garden":MAILTO:admin@gamblegarden.org
END:VEVENT
BEGIN:VEVENT
DTSTART;TZID=America/Los_Angeles:20230728T093000
DTEND;TZID=America/Los_Angeles:20230728T103000
DTSTAMP:20260421T050126
CREATED:20230519T224820Z
LAST-MODIFIED:20230726T215415Z
UID:23018-1690536600-1690540200@www.gamblegarden.org
SUMMARY:Tai Chi in the Garden - July 28
DESCRIPTION:
URL:https://www.gamblegarden.org/event/tai-chi-in-the-garden-july-28-2023/
LOCATION:Gamble Garden\, 1431 Waverley Street\, Palo Alto\, CA\, 94301\, United States
CATEGORIES:All Classes & Events,Classes for Adults,Fitness,Tai Chi
ORGANIZER;CN="Gamble Garden":MAILTO:admin@gamblegarden.org
END:VEVENT
BEGIN:VEVENT
DTSTART;TZID=America/Los_Angeles:20230714T090000
DTEND;TZID=America/Los_Angeles:20230714T100000
DTSTAMP:20260421T050126
CREATED:20230519T224212Z
LAST-MODIFIED:20230711T145114Z
UID:23016-1689325200-1689328800@www.gamblegarden.org
SUMMARY:Tai Chi in the Garden - July 14
DESCRIPTION:
URL:https://www.gamblegarden.org/event/tai-chi-in-the-garden-july-14-2023/
LOCATION:Gamble Garden\, 1431 Waverley Street\, Palo Alto\, CA\, 94301\, United States
CATEGORIES:All Classes & Events,Classes for Adults,Fitness,Tai Chi
ORGANIZER;CN="Gamble Garden":MAILTO:admin@gamblegarden.org
END:VEVENT
BEGIN:VEVENT
DTSTART;TZID=America/Los_Angeles:20230623T090000
DTEND;TZID=America/Los_Angeles:20230623T100000
DTSTAMP:20260421T050126
CREATED:20230519T223534Z
LAST-MODIFIED:20230619T222943Z
UID:23014-1687510800-1687514400@www.gamblegarden.org
SUMMARY:Tai Chi in the Garden - June 23
DESCRIPTION:
URL:https://www.gamblegarden.org/event/tai-chi-in-the-garden-june-23-2023/
LOCATION:Gamble Garden\, 1431 Waverley Street\, Palo Alto\, CA\, 94301\, United States
CATEGORIES:All Classes & Events,Classes for Adults,Fitness,Tai Chi
ORGANIZER;CN="Gamble Garden":MAILTO:admin@gamblegarden.org
END:VEVENT
BEGIN:VEVENT
DTSTART;TZID=America/Los_Angeles:20230609T090000
DTEND;TZID=America/Los_Angeles:20230609T100000
DTSTAMP:20260421T050126
CREATED:20230519T221851Z
LAST-MODIFIED:20230519T233636Z
UID:23012-1686301200-1686304800@www.gamblegarden.org
SUMMARY:Tai Chi in the Garden - June 9
DESCRIPTION:
URL:https://www.gamblegarden.org/event/tai-chi-in-the-garden-june-9-2023/
LOCATION:Gamble Garden\, 1431 Waverley Street\, Palo Alto\, CA\, 94301\, United States
CATEGORIES:All Classes & Events,Classes for Adults,Fitness
ORGANIZER;CN="Gamble Garden":MAILTO:admin@gamblegarden.org
END:VEVENT
END:VCALENDAR